BEGIN:VCALENDAR
VERSION:2.0
PRODID:-//American Sign Language Classes | ASL Classes | New York - ECPv4.6.19//NONSGML v1.0//EN
CALSCALE:GREGORIAN
METHOD:PUBLISH
X-WR-CALNAME:American Sign Language Classes | ASL Classes | New York
X-ORIGINAL-URL:https://asldiscoveries.com
X-WR-CALDESC:Events for American Sign Language Classes | ASL Classes | New York
BEGIN:VEVENT
DTSTART;TZID=UTC+0:20181020T113000
DTEND;TZID=UTC+0:20181020T120000
DTSTAMP:20260420T125424
CREATED:20180919T035801Z
LAST-MODIFIED:20180919T035801Z
UID:1851-1540035000-1540036800@asldiscoveries.com
SUMMARY:Preschool (3-5)
DESCRIPTION:ALL who are interested are welcome to attend. \n
URL:https://asldiscoveries.com/event/preschool-3-5-2-2/
LOCATION:3500 Sunrise Hwy #101\, Great River\, NY\, 11739\, United States
ORGANIZER;CN="ASL%20Discoveries":MAILTO:asldiscoveries@gmail.com
END:VEVENT
END:VCALENDAR